BEGIN:VCALENDAR
VERSION:2.0
PRODID:-//eventon.com NONSGML v1.0//EN
CALSCALE:GREGORIAN
METHOD:PUBLISH
BEGIN:VEVENT
UID:69e736ad469b7
DTSTAMP:20260421T083453Z
DTSTART:20250905T100000Z
DTEND:20250906T160000Z
LOCATION:
SUMMARY:Big Costume Sale!
DESCRIPTION:Off to a festival? Run a theatre group? Doing a show? Or just l
 ove dressing up generally? (We defo do!) We&#8217;re having a clear out! We
  have LOADS of amazing costumes and props that need a loving new home\,  so
  come and fill your boots at our Big Costume Sale![..]\nhttps://www.ragtaga
 rts.co.uk/events/big-costume-sale/
URL:https://www.ragtagarts.co.uk/events/big-costume-sale/
END:VEVENT
END:VCALENDAR