BEGIN:VCALENDAR
VERSION:2.0
PRODID:-//eventon.com NONSGML v1.0//EN
CALSCALE:GREGORIAN
METHOD:PUBLISH
BEGIN:VEVENT
UID:69eb051cc1842
DTSTAMP:20260424T055228Z
DTSTART:20250515T100000Z
DTEND:20250515T110000Z
LOCATION:
SUMMARY:Messy Paint and Play
DESCRIPTION:Get ready to GO BIG\,  GET MESSY\,  and HAVE LOADS OF FUN! Back
  by popular demand\,  we’re running two exciting sessions for this amaz
 ing event! We’re rolling out giant sheets of paper\,  splashing loads of 
 paint\,  and bringing all sorts of fun tools to create the most epic\,  mes
 sy masterpieces ever! Want[..]\nhttps://www.ragtagarts.co.uk/events/messy-p
 aint-and-play/
URL:https://www.ragtagarts.co.uk/events/messy-paint-and-play/
END:VEVENT
END:VCALENDAR