BEGIN:VCALENDAR
VERSION:2.0
PRODID:-//eventon.com NONSGML v1.0//EN
CALSCALE:GREGORIAN
METHOD:PUBLISH
BEGIN:VEVENT
UID:69e73700883f2
DTSTAMP:20260421T083616Z
DTSTART:20240807T100000Z
DTEND:20240807T150000Z
LOCATION:Ragtag Arts &amp; Community Scrapstore
SUMMARY:Crafty Pets
DESCRIPTION:Kids Summer Holiday Activities &#8211; Crafty Pets A full day o
 f crafty fun awaits with our fabulous kids summer holiday activities &#8211
 ; Crafty Pets! Utilising great resources from the Ragtag scrapstore\,  we w
 ill create our own weird and wonderful pets on leads. From puppies and cats
  to lizards and even[..]\nhttps://www.ragtagarts.co.uk/events/crafty-pets/
URL:https://www.ragtagarts.co.uk/events/crafty-pets/
END:VEVENT
END:VCALENDAR