BEGIN:VCALENDAR
VERSION:2.0
PRODID:-//eventon.com NONSGML v1.0//EN
CALSCALE:GREGORIAN
METHOD:PUBLISH
BEGIN:VEVENT
UID:69e7371dc5297
DTSTAMP:20260421T083645Z
DTSTART:20240302T130000Z
DTEND:20240302T160000Z
LOCATION:Ragtag Arts &amp; Community Scrapstore
SUMMARY:Spring Wreath Workshop
DESCRIPTION:Come and get crafty in our lovely cafe with this adult workshop
 . Welcome the warmth and longer days back by making a beautiful Spring scra
 p wreath using resources from our wonderful scrapstore. Saturday 2nd March 
 1-4pm Hot drinks and tasty cakes available to purchase. Opportunity to expl
 ore and purchase materials[..]\nhttps://www.ragtagarts.co.uk/events/spring-
 wreath-workshop/
URL:https://www.ragtagarts.co.uk/events/spring-wreath-workshop/
END:VEVENT
END:VCALENDAR