BEGIN:VCALENDAR
VERSION:2.0
PRODID:-//eventon.com NONSGML v1.0//EN
CALSCALE:GREGORIAN
METHOD:PUBLISH
BEGIN:VEVENT
UID:69e739731e35b
DTSTAMP:20260421T084643Z
DTSTART:20230824
DTEND:20230825
LOCATION:Preston
SUMMARY:Ragtag Roadshow
DESCRIPTION:We&#8217;re going to The Harris Summer Programme! The Ragtag Ro
 adshow is a mobile scrap store with walkabout characters called Rag &amp; T
 ag\,  pop-up creative activities\,  children’s theatre\,  loose parts pla
 y and more. Rag &amp; Tag are cheeky and inquisitive friends who love to re
 use\,  create and play – and their[..]\nhttps://www.ragtagarts.co.uk/even
 ts/ragtag-roadshow-harris-summer/
URL:https://www.ragtagarts.co.uk/events/ragtag-roadshow-harris-summer/
END:VEVENT
END:VCALENDAR