BEGIN:VCALENDAR
VERSION:2.0
PRODID:-//eventon.com NONSGML v1.0//EN
CALSCALE:GREGORIAN
METHOD:PUBLISH
BEGIN:VEVENT
UID:69e5eecd698e6
DTSTAMP:20260420T091557Z
DTSTART:20230727
DTEND:20230728
LOCATION:Kendal Calling
SUMMARY:Ragtag Roadshow
DESCRIPTION:Come and see us at Kendal Calling! The Ragtag Roadshow is a mob
 ile scrap store with walkabout characters called Rag &amp; Tag\,  pop-up cr
 eative activities\,  children’s theatre\,  loose parts play and more. Rag
  &amp; Tag are cheeky and inquisitive friends who love to reuse\,  create a
 nd play – and their[..]\nhttps://www.ragtagarts.co.uk/events/ragtag-roads
 how-kendal-calling/
URL:https://www.ragtagarts.co.uk/events/ragtag-roadshow-kendal-calling/
END:VEVENT
END:VCALENDAR