BEGIN:VCALENDAR
VERSION:2.0
PRODID:-//eventon.com NONSGML v1.0//EN
CALSCALE:GREGORIAN
METHOD:PUBLISH
BEGIN:VEVENT
UID:69e73844c92de
DTSTAMP:20260421T084140Z
DTSTART:20230411T100000Z
DTEND:20230411T110000Z
LOCATION:Ragtag Arts &amp; Community Scrapstore
SUMMARY:Scrapfish Aquarium
DESCRIPTION:Ever wanted to own your own aquarium full of magical deep sea c
 ritters that haven&#8217;t even got a name yet?! Using our awesome shimmery
  shiny scrap\,  build one yourself! All ages welcome. Hot drinks and cakes 
 will be available in our cafe.\nhttps://www.ragtagarts.co.uk/events/scrapfi
 sh-aquarium/
URL:https://www.ragtagarts.co.uk/events/scrapfish-aquarium/
END:VEVENT
END:VCALENDAR