BEGIN:VCALENDAR
VERSION:2.0
PRODID:-//eventon.com NONSGML v1.0//EN
CALSCALE:GREGORIAN
METHOD:PUBLISH
BEGIN:VEVENT
UID:69e885207e157
DTSTAMP:20260422T082152Z
DTSTART:20221223T100000Z
DTEND:20221223T110000Z
LOCATION:
SUMMARY:Santa & Craft - Morning
DESCRIPTION:Come create a Christmas Lantern with its own LED light\,  and g
 et the chance to meet the big man himself! He will have a special gift for 
 each child &#8230;just make sure you&#8217;ve been good this year! You will
  also be able to meet Rag and Tag\,  the Scrapstores mascots.[..]\nhttps://
 www.ragtagarts.co.uk/events/santa-craft-morning/
URL:https://www.ragtagarts.co.uk/events/santa-craft-morning/
END:VEVENT
END:VCALENDAR