BEGIN:VCALENDAR
VERSION:2.0
PRODID:-//eventon.com NONSGML v1.0//EN
CALSCALE:GREGORIAN
METHOD:PUBLISH
BEGIN:VEVENT
UID:69e76cc56b285
DTSTAMP:20260421T122541Z
DTSTART:20221029T130000Z
DTEND:20221029T160000Z
LOCATION:
SUMMARY:Repair Cafe
DESCRIPTION:Got a rip in your jeans? Bike needs some love? A plug that need
 s rewiring? Come visit our amazing volunteers who will help repair your ite
 ms. &nbsp; We are working in partnership with Simply Repair South Lakes &nb
 sp; Free/Donation welcome\nhttps://www.ragtagarts.co.uk/events/repair-cafe/
URL:https://www.ragtagarts.co.uk/events/repair-cafe/
END:VEVENT
END:VCALENDAR