BEGIN:VCALENDAR
VERSION:2.0
PRODID:-//eventon.com NONSGML v1.0//EN
CALSCALE:GREGORIAN
METHOD:PUBLISH
BEGIN:VEVENT
UID:69e73b9a33c5c
DTSTAMP:20260421T085554Z
DTSTART:20221028T100000Z
DTEND:20221028T160000Z
LOCATION:Ragtag Arts &amp; Comminuty Scrapstore
SUMMARY:Fabric Sale
DESCRIPTION:Our Scrapstore is overflowing with amazing fabrics. So we are g
 oing to dig out all the boxes we have in storage for you to rummage through
  and grab some amazing bargains\,  In a amazing 3 day fabric sale!! FREE EN
 TRY\,  Just rock up\nhttps://www.ragtagarts.co.uk/events/fabric-sale-2/
URL:https://www.ragtagarts.co.uk/events/fabric-sale-2/
END:VEVENT
END:VCALENDAR