BEGIN:VCALENDAR
VERSION:2.0
PRODID:-//eventon.com NONSGML v1.0//EN
CALSCALE:GREGORIAN
METHOD:PUBLISH
BEGIN:VEVENT
UID:69e736fd4c3a0
DTSTAMP:20260421T083613Z
DTSTART:20221103T100000Z
DTEND:20221103T110000Z
LOCATION:Ragtag Arts &amp; Comminuty Scrapstore
SUMMARY:Mini Makers - Thursdays
DESCRIPTION:Come join our pre-school art club! Each week we do something di
 fferent and creative. From squishing clay and building giant marble runs to
  painting and creating costumes. You can also purchase delicious coffee and
  cake and relax while your little ones cause carnage! *Please note this is 
 a new day.[..]\nhttps://www.ragtagarts.co.uk/events/mini-makers-thursdays/
URL:https://www.ragtagarts.co.uk/events/mini-makers-thursdays/
END:VEVENT
END:VCALENDAR