BEGIN:VCALENDAR
VERSION:2.0
PRODID:-//eventon.com NONSGML v1.0//EN
CALSCALE:GREGORIAN
METHOD:PUBLISH
BEGIN:VEVENT
UID:69e5ec3749630
DTSTAMP:20260420T090455Z
DTSTART:20220421T160000Z
DTEND:20220421T170000Z
LOCATION:Ragtag Arts &amp; Comminuty Scrapstore
SUMMARY:Thursday Art Club (6 sessions)
DESCRIPTION:Each session we work on a different project and get really crea
 tive! Learning new techniques such as using mod rock\,  clay\,  painting\, 
  scrap sculpture\,  collage\,  print making\,  the list is endless!  6 &#8
 211; 11 yr olds (ish) 6 weeks &#8211; £39 (£6.50 per week) 21st April  &
 #8211; 26th May If[..]\nhttps://www.ragtagarts.co.uk/events/thursday-art-cl
 ub-6-sessions/
URL:https://www.ragtagarts.co.uk/events/thursday-art-club-6-sessions/
END:VEVENT
END:VCALENDAR