BEGIN:VCALENDAR
VERSION:2.0
PRODID:-//eventon.com NONSGML v1.0//EN
CALSCALE:GREGORIAN
METHOD:PUBLISH
BEGIN:VEVENT
UID:69e7369179579
DTSTAMP:20260421T083425Z
DTSTART:20220407T100000Z
DTEND:20220407T150000Z
LOCATION:Methodist Church Hall
SUMMARY:Mad Junk Mini Golf - Grange-over-Sands
DESCRIPTION:Get mad for Mini-Golf and join our not-so-professional golf ent
 husiasts as we design\,  build and play our very own miniature golf course 
 – made entirely out of junk! For children aged 5 to 11yrs. Children must 
 be accompanied by an adult. A delicious lunch will be provided. If you have
 [..]\nhttps://www.ragtagarts.co.uk/events/mad-junk-mini-golf-grange-over-sa
 nds/
URL:https://www.ragtagarts.co.uk/events/mad-junk-mini-golf-grange-over-sands/
END:VEVENT
END:VCALENDAR