BEGIN:VCALENDAR
VERSION:2.0
PRODID:-//eventon.com NONSGML v1.0//EN
CALSCALE:GREGORIAN
METHOD:PUBLISH
BEGIN:VEVENT
UID:69e5ef292d87c
DTSTAMP:20260420T091729Z
DTSTART:20210730T100000Z
DTEND:20210730T230000Z
LOCATION:Ragtag Arts &amp; Comminuty Scrapstore
SUMMARY:BIG SCRAP...... shadow puppets
DESCRIPTION:This week we are going under the sea! We will create beautiful 
 shadow puppets to float in front of the projector in our under sea world. O
 ur BIG SCRAP fridays are running every friday in the summer holidays and ai
 med to engage the whole family. The sessions are based in[..]\nhttps://www.
 ragtagarts.co.uk/events/big-scrap-shadow-puppets/
URL:https://www.ragtagarts.co.uk/events/big-scrap-shadow-puppets/
END:VEVENT
END:VCALENDAR